BEGIN:VCALENDAR
VERSION:2.0
PRODID:gruene-worpswede.de
METHOD:PUBLISH
BEGIN:VTIMEZONE
TZID:Europe/Berlin
X-LIC-LOCATION:Europe/Berlin
BEGIN:DAYLIGHT
TZOFFSETFROM:+0100
TZOFFSETTO:+0200
TZNAME:CEST
DTSTART:19700329T020000
RRULE:FREQ=YEARLY;INTERVAL=1;BYDAY=-1SU;BYMONTH=3
END:DAYLIGHT
BEGIN:STANDARD
TZOFFSETFROM:+0200
TZOFFSETTO:+0100
TZNAME:CET
DTSTART:19701025T030000
RRULE:FREQ=YEARLY;INTERVAL=1;BYDAY=-1SU;BYMONTH=10
END:STANDARD
END:VTIMEZONE
BEGIN:VEVENT
UID:ad1afaaa55599f48fbbec5eda1d56113@gruene-worpswede.de
URL;VALUE=URI:https://gruene-worpswede.de/termine/%f0%9f%8c%b1-gruene-tau
 schboerse-pflanzen-teilen-vielfalt-foerdern-%f0%9f%8c%b1/
LOCATION:Bötjersche Scheune, Bauernreihe, Worpswede
SUMMARY:🌱 Grüne Tauschbörse: Pflanzen teilen, Vielfalt fördern! 
 🌱
DESCRIPTION;ALTREP="data:text/html,%0A%3Cp%3E%3C%2Fp%3E%0A%0A%0A%0A%3Cp%3
 EKommt%20zum%20%22Fest%20f%C3%BCr%20Alle%22%20am%2020.%20September%20ab%2
 015%20Uhr%20an%20der%20B%C3%B6tjer%27schen%20Scheune%20in%20Worpswede%21%
 20Unser%20Ortsverband%20ist%20mit%20einer%20Staudentauschaktion%20dabei.%
 3C%2Fp%3E%0A%0A%0A%0A%3Cp%3EWas%20ihr%20mitbringen%20k%C3%B6nnt%3A%20Stau
 den%2C%20kleine%20B%C3%BCsche%20oder%20Baumsetzlinge%20aus%20eurem%20Gart
 en.%20Was%20ihr%20mitnehmen%20k%C3%B6nnt%3A%20Neue%20gr%C3%BCne%20Sch%C3%
 A4tze%20f%C3%BCr%20euer%20Zuhause%20-%20kostenlos%21%3C%2Fp%3E%0A%0A%0A%0
 A%3Cp%3EGemeinsam%20schaffen%20wir%20mehr%20Artenvielfalt%2C%20bieten%20I
 nsekten%20Nahrung%20und%20halten%20unsere%20B%C3%B6den%20lebendig.%20Die%
 20Pflanzenspenden%20nehmen%20wir%20bereits%20ab%2012%20Uhr%20entgegen.%3C
 %2Fp%3E%0A%0A%0A%0A%3Cp%3ETipp%3A%20Bitte%20teilt%20eure%20Pflanzen%20in%
 20kleine%20Teile%2C%20beschriftet%20sie%20und%20bringt%20nur%20heimische%
 20oder%20nicht-invasive%20Arten%20mit.%3C%2Fp%3E%0A%0A%0A%0A%3Cp%3EFragen
 %3F%20Mail%20an%20vorstand%40gruene-worpswede.de%3C%2Fp%3E%0A":Kommt zum 
 "Fest für Alle" am 20. September ab 15 Uhr an der Bötjer'schen Scheune 
 in Worpswede! Unser Ortsverband ist mit einer Staudentauschaktion dabei.\
 n\nWas ihr mitbringen könnt: Stauden\, kleine Büsche oder Baumsetzlinge
  aus eurem Garten. Was ihr mitnehmen könnt: Neue grüne Schätze für eu
 er Zuhause - kostenlos!\n\nGemeinsam schaffen wir mehr Artenvielfalt\, bi
 eten Insekten Nahrung und halten unsere Böden lebendig. Die Pflanzenspen
 den nehmen wir bereits ab 12 Uhr entgegen.\n\nTipp: Bitte teilt eure Pfla
 nzen in kleine Teile\, beschriftet sie und bringt nur heimische oder nich
 t-invasive Arten mit.\n\nFragen? Mail an vorstand@gruene-worpswede.de
CLASS:PUBLIC
DTSTART;TZID=Europe/Berlin:20250920T150000
DTEND;TZID=Europe/Berlin:20250920T180000
DTSTAMP:20260424T124915
END:VEVENT
END:VCALENDAR