BEGIN:VCALENDAR
VERSION:2.0
PRODID:gruene-worpswede.de
METHOD:PUBLISH
BEGIN:VTIMEZONE
TZID:Europe/Berlin
X-LIC-LOCATION:Europe/Berlin
BEGIN:DAYLIGHT
TZOFFSETFROM:+0100
TZOFFSETTO:+0200
TZNAME:CEST
DTSTART:19700329T020000
RRULE:FREQ=YEARLY;INTERVAL=1;BYDAY=-1SU;BYMONTH=3
END:DAYLIGHT
BEGIN:STANDARD
TZOFFSETFROM:+0200
TZOFFSETTO:+0100
TZNAME:CET
DTSTART:19701025T030000
RRULE:FREQ=YEARLY;INTERVAL=1;BYDAY=-1SU;BYMONTH=10
END:STANDARD
END:VTIMEZONE
BEGIN:VEVENT
UID:e0dbb405fc7cd9529a7bc6501d60c60c@gruene-worpswede.de
URL;VALUE=URI:https://gruene-worpswede.de/termine/europawahl-saskia-zwill
 ing-kommt-nach-worpswede/
LOCATION:
SUMMARY:Europawahl: Saskia Zwilling kommt nach Worpswede
DESCRIPTION;ALTREP="data:text/html,%0A%3Cp%3EAm%20kommenden%20Freitag%2C%
 20den%2024.%20Mai%202024%20besucht%20Saskia%20Zwilling%20auf%20Einladung%
 20des%20Kreisverbands%20Osterholz%20den%20Ortsverband%20BD90%2FDIE%20GR%C
 3%9CNEN%20Worpswede.%20Ab%2010%3A00%20steht%20sie%20mit%20uns%20vor%20dem
 %20EDEKA%20Markt%2C%20Osterweder%20Str.77%20in%2027726%20Worpswede%20alle
 n%20Interessierten%20f%C3%BCr%20ein%20Gespr%C3%A4ch%20%C3%BCber%20ihre%20
 Kandidatur%20und%20die%20Europawahl%20zur%20Verf%C3%BCgung%3C%2Fp%3E%0A%0
 A%0A%0A%3Cp%3EDie%20junge%20Achimerin%20kandidiert%2C%20um%20jungen%20Men
 schen%20eine%20Stimme%20zu%20geben.%20Ihr%20ist%20vor%20allem%20die%20Gle
 ichberechtigung%20der%20Geschlechter%20in%20der%20Forschung%20und%20den%2
 0sogenannten%20MINT-Berufen%20%28Mathematik%2C%20Informatik%2C%20Naturwis
 senschaften%20und%20Technik%29%20in%20Position%20und%20Verg%C3%BCtung%20w
 ichtig.%20Ein%20internationaler%20Rechtsraum%20wie%20es%20ein%20Europa%20
 mit%20guten%20Grundwerten%20bietet%2C%20erm%C3%B6glicht%20jungen%20Berufs
 t%C3%A4tigen%20dazu%20gute%20und%20notwendige%20Austauschm%C3%B6glichkeit
 en.%C2%A0%3Ca%20href%3D%22https%3A%2F%2Fwww.gruene-achim.de%2Fsaskia-zwil
 ling-fuer-europa%2F%22%3Ehttps%3A%2F%2Fwww.gruene-achim.de%2Fsaskia-zwill
 ing-fuer-europa%2F%3C%2Fa%3E%C2%A0.%3C%2Fp%3E%0A%0A%0A%0A%3Cp%3EWir%20vom
 %20OV-Worpswede%20und%20KV%20Osterholz%20werden%20ab%209%3A30%20Uhr%20vor
 %20Ort%20sein%2C%20um%20den%20Aufbau%20zu%20organisieren.%20Saskia%20komm
 t%20dann%20gegen%2010%3A00%20Uhr%20bis%20circa%2012%3A30%20Uhr.%20Wir%20f
 reuen%20uns%2C%20wenn%20Ihr%20dabei%20seid.%20Ob%20nur%20ein%20halbes%20S
 t%C3%BCndchen%20oder%20die%20ganze%20Zeit%2C%20jede%20Unterst%C3%BCtzung%
 20z%C3%A4hlt.%3C%2Fp%3E%0A%0A%0A%0A%3Cp%3EF%C3%BCr%20eine%20Wahl%20zur%20
 St%C3%A4rkung%20und%20den%20Erhalt%20der%20Demokratie%20in%20ganz%20Europ
 a%21%3C%2Fp%3E%0A":Am kommenden Freitag\, den 24. Mai 2024 besucht Saskia
  Zwilling auf Einladung des Kreisverbands Osterholz den Ortsverband BD90/
 DIE GRÜNEN Worpswede. Ab 10:00 steht sie mit uns vor dem EDEKA Markt\, O
 sterweder Str.77 in 27726 Worpswede allen Interessierten für ein Gesprä
 ch über ihre Kandidatur und die Europawahl zur Verfügung\n\nDie junge A
 chimerin kandidiert\, um jungen Menschen eine Stimme zu geben. Ihr ist vo
 r allem die Gleichberechtigung der Geschlechter in der Forschung und den 
 sogenannten MINT-Berufen (Mathematik\, Informatik\, Naturwissenschaften u
 nd Technik) in Position und Vergütung wichtig. Ein internationaler Recht
 sraum wie es ein Europa mit guten Grundwerten bietet\, ermöglicht jungen
  Berufstätigen dazu gute und notwendige Austauschmöglichkeiten. https:
 //www.gruene-achim.de/saskia-zwilling-fuer-europa/ .\n\nWir vom OV-Worps
 wede und KV Osterholz werden ab 9:30 Uhr vor Ort sein\, um den Aufbau zu 
 organisieren. Saskia kommt dann gegen 10:00 Uhr bis circa 12:30 Uhr. Wir 
 freuen uns\, wenn Ihr dabei seid. Ob nur ein halbes Stündchen oder die g
 anze Zeit\, jede Unterstützung zählt.\n\nFür eine Wahl zur Stärkung u
 nd den Erhalt der Demokratie in ganz Europa!
CLASS:PUBLIC
DTSTART;TZID=Europe/Berlin:19700101T000000
DTEND;TZID=Europe/Berlin:19700101T010000
DTSTAMP:20260424T124915
END:VEVENT
END:VCALENDAR