BEGIN:VCALENDAR
VERSION:2.0
PRODID:gruene-worpswede.de
METHOD:PUBLISH
BEGIN:VTIMEZONE
TZID:Europe/Berlin
X-LIC-LOCATION:Europe/Berlin
BEGIN:DAYLIGHT
TZOFFSETFROM:+0100
TZOFFSETTO:+0200
TZNAME:CEST
DTSTART:19700329T020000
RRULE:FREQ=YEARLY;INTERVAL=1;BYDAY=-1SU;BYMONTH=3
END:DAYLIGHT
BEGIN:STANDARD
TZOFFSETFROM:+0200
TZOFFSETTO:+0100
TZNAME:CET
DTSTART:19701025T030000
RRULE:FREQ=YEARLY;INTERVAL=1;BYDAY=-1SU;BYMONTH=10
END:STANDARD
END:VTIMEZONE
BEGIN:VEVENT
UID:b36fc1bb74912536e5c72b8530d902dd@gruene-worpswede.de
URL;VALUE=URI:https://gruene-worpswede.de/termine/gruene-wiese-3/
LOCATION:MIMIS ERBE, Findorffstr. 10, 27726 Worpswede
SUMMARY:GRÜNE WIESE
DESCRIPTION;ALTREP="data:text/html,%0A%3Cp%3EKommt%20zur%20gr%C3%BCnen%20
 Wahlnachlese%20und%20zum%20Austausch%20ins%20Kunstkaufhaus%20MIMIS.%20Int
 eressierte%20G%C3%A4ste%20sind%20willkommen.%3C%2Fp%3E%0A%0A%0A%0A%3Cp%3E
 %3C%2Fp%3E%0A":Kommt zur grünen Wahlnachlese und zum Austausch ins Kunst
 kaufhaus MIMIS. Interessierte Gäste sind willkommen.
CLASS:PUBLIC
DTSTART;TZID=Europe/Berlin:20250401T193000
DTEND;TZID=Europe/Berlin:20250401T210000
DTSTAMP:20260424T124636
END:VEVENT
END:VCALENDAR