BEGIN:VCALENDAR
VERSION:2.0
PRODID:gruene-worpswede.de
METHOD:PUBLISH
BEGIN:VTIMEZONE
TZID:Europe/Berlin
X-LIC-LOCATION:Europe/Berlin
BEGIN:DAYLIGHT
TZOFFSETFROM:+0100
TZOFFSETTO:+0200
TZNAME:CEST
DTSTART:19700329T020000
RRULE:FREQ=YEARLY;INTERVAL=1;BYDAY=-1SU;BYMONTH=3
END:DAYLIGHT
BEGIN:STANDARD
TZOFFSETFROM:+0200
TZOFFSETTO:+0100
TZNAME:CET
DTSTART:19701025T030000
RRULE:FREQ=YEARLY;INTERVAL=1;BYDAY=-1SU;BYMONTH=10
END:STANDARD
END:VTIMEZONE
BEGIN:VEVENT
UID:b7b43a2b0752e180f198bc85227c42fb@gruene-worpswede.de
URL;VALUE=URI:https://gruene-worpswede.de/termine/komm-auf-die-gruene-wie
 se-in-worpswede/
LOCATION:Sonntag, Findorffstraße 29, Worpswede
SUMMARY:Komm auf die GRÜNE WIESE in Worpswede
DESCRIPTION;ALTREP="data:text/html,%0A%3Cp%3EDie%20n%C3%A4chste%20Gr%C3%B
 Cne%20Wiese%20findet%20am%20Sonntag%2C%20dem%2029.Juni%2C%20um%2018%3A00%
 20Uhr%20in%20Worpswede%20Findorffstra%C3%9Fe%2029%20im%20SONNTAG%20statt.
 %20Bitte%2C%20liebe%20Mitglieder%20und%20Freunde%2C%20kommt%20mit%20einem
 %20Sack%20voller%20Ideen.%20G%C3%A4ste%20sind%20herzlich%20willkommen.%20
 %3C%2Fp%3E%0A%0A%0A%0A%3Cp%3E%3C%2Fp%3E%0A":Die nächste Grüne Wiese fin
 det am Sonntag\, dem 29.Juni\, um 18:00 Uhr in Worpswede Findorffstraße 
 29 im SONNTAG statt. Bitte\, liebe Mitglieder und Freunde\, kommt mit ein
 em Sack voller Ideen. Gäste sind herzlich willkommen.
CLASS:PUBLIC
DTSTART;TZID=Europe/Berlin:20250629T180000
DTEND;TZID=Europe/Berlin:20250629T200000
DTSTAMP:20260424T124840
END:VEVENT
END:VCALENDAR