BEGIN:VCALENDAR
VERSION:2.0
PRODID:gruene-worpswede.de
METHOD:PUBLISH
BEGIN:VTIMEZONE
TZID:Europe/Berlin
X-LIC-LOCATION:Europe/Berlin
BEGIN:DAYLIGHT
TZOFFSETFROM:+0100
TZOFFSETTO:+0200
TZNAME:CEST
DTSTART:19700329T020000
RRULE:FREQ=YEARLY;INTERVAL=1;BYDAY=-1SU;BYMONTH=3
END:DAYLIGHT
BEGIN:STANDARD
TZOFFSETFROM:+0200
TZOFFSETTO:+0100
TZNAME:CET
DTSTART:19701025T030000
RRULE:FREQ=YEARLY;INTERVAL=1;BYDAY=-1SU;BYMONTH=10
END:STANDARD
END:VTIMEZONE
BEGIN:VEVENT
UID:77b5b34f81323096eb89f1031116ccac@gruene-worpswede.de
URL;VALUE=URI:https://gruene-worpswede.de/termine/mitgliederversammlung/
LOCATION:MIMIS Erbe, Findorffstr.10, Worpswede
SUMMARY:Mitgliederversammlung
DESCRIPTION;ALTREP="data:text/html,%0A%3Cp%3EDer%20Ortsvorstand%20l%C3%A4
 dt%20zur%20MV%20am%2015.5.25%20in%20Mimis%20Erbe.%20Wir%20geben%20eine%20
 kurze%20R%C3%BCckschau%2C%20h%C3%B6ren%20Berichte%20aus%20der%20aktuellen
 %20worpsweder%20Politik%20und%20blicken%20auf%20das%20kommende%20Jahr%20m
 it%20Terminen%20und%20Aktionen.%20G%C3%A4ste%20sind%20herzlich%20willkomm
 en%21%3C%2Fp%3E%0A%0A%0A%0A%3Cp%3E%3C%2Fp%3E%0A":Der Ortsvorstand lädt z
 ur MV am 15.5.25 in Mimis Erbe. Wir geben eine kurze Rückschau\, hören 
 Berichte aus der aktuellen worpsweder Politik und blicken auf das kommend
 e Jahr mit Terminen und Aktionen. Gäste sind herzlich willkommen!
CLASS:PUBLIC
DTSTART;TZID=Europe/Berlin:20250515T193000
DTEND;TZID=Europe/Berlin:20250515T210000
DTSTAMP:20260424T124637
END:VEVENT
END:VCALENDAR