BEGIN:VCALENDAR
VERSION:2.0
PRODID:gruene-worpswede.de
METHOD:PUBLISH
BEGIN:VTIMEZONE
TZID:Europe/Berlin
X-LIC-LOCATION:Europe/Berlin
BEGIN:DAYLIGHT
TZOFFSETFROM:+0100
TZOFFSETTO:+0200
TZNAME:CEST
DTSTART:19700329T020000
RRULE:FREQ=YEARLY;INTERVAL=1;BYDAY=-1SU;BYMONTH=3
END:DAYLIGHT
BEGIN:STANDARD
TZOFFSETFROM:+0200
TZOFFSETTO:+0100
TZNAME:CET
DTSTART:19701025T030000
RRULE:FREQ=YEARLY;INTERVAL=1;BYDAY=-1SU;BYMONTH=10
END:STANDARD
END:VTIMEZONE
BEGIN:VEVENT
UID:291c9d7382817aa0be63f6300b39bd3f@gruene-worpswede.de
URL;VALUE=URI:https://gruene-worpswede.de/termine/offenes-ov-vorstandstre
 ffen/
LOCATION:MIMIS ERBE, Findorffstr. 14, 27726 Worpswede
SUMMARY:Offenes OV Vorstandstreffen
DESCRIPTION;ALTREP="data:text/html,%0A%3Cp%3EAm%204.9.2025%20trifft%20sic
 h%20der%20worpsweder%20OV%20Vorstand%20bei%20MIMIS%20Erbe%20in%20der%20Fi
 ndorffstr.%2014%20in%20Worpswede.%20Das%20Treffen%20ist%20f%C3%BCr%20G%C3
 %A4ste%20und%20Interessierte%20offen.%20Themen%20werden%20unsere%20Teilna
 hme%20und%20Standplanung%20f%C3%BCr%20das%20Fest%20am%2020.9.2025%20vom%2
 0%3Cstrong%3E%E2%80%9EB%C3%BCndnis%20f%C3%BCr%20Demokratie%2C%20kein%20Pl
 atz%20f%C3%BCr%20Nazis%20in%20Worpswede%E2%80%9C%3C%2Fstrong%3E%20und%20W
 ahlkampfvorbereitungen%20f%C3%BCr%20die%20kommende%20Kommunalwahl%20im%20
 Herbst%202026%20sein.%20%3C%2Fp%3E%0A":Am 4.9.2025 trifft sich der worpsw
 eder OV Vorstand bei MIMIS Erbe in der Findorffstr. 14 in Worpswede. Das 
 Treffen ist für Gäste und Interessierte offen. Themen werden unsere Tei
 lnahme und Standplanung für das Fest am 20.9.2025 vom „Bündnis für D
 emokratie\, kein Platz für Nazis in Worpswede“ und Wahlkampfvorbereitu
 ngen für die kommende Kommunalwahl im Herbst 2026 sein.
CLASS:PUBLIC
DTSTART;TZID=Europe/Berlin:20250904T190000
DTEND;TZID=Europe/Berlin:20250904T210000
DTSTAMP:20260424T124819
END:VEVENT
END:VCALENDAR