BEGIN:VCALENDAR
VERSION:2.0
PRODID:gruene-worpswede.de
METHOD:PUBLISH
BEGIN:VTIMEZONE
TZID:Europe/Berlin
X-LIC-LOCATION:Europe/Berlin
BEGIN:DAYLIGHT
TZOFFSETFROM:+0100
TZOFFSETTO:+0200
TZNAME:CEST
DTSTART:19700329T020000
RRULE:FREQ=YEARLY;INTERVAL=1;BYDAY=-1SU;BYMONTH=3
END:DAYLIGHT
BEGIN:STANDARD
TZOFFSETFROM:+0200
TZOFFSETTO:+0100
TZNAME:CET
DTSTART:19701025T030000
RRULE:FREQ=YEARLY;INTERVAL=1;BYDAY=-1SU;BYMONTH=10
END:STANDARD
END:VTIMEZONE
BEGIN:VEVENT
UID:58c900355531770592522d8c430695f2@gruene-worpswede.de
URL;VALUE=URI:https://gruene-worpswede.de/termine/vorstandssitzung-ov-wor
 pswede-2/
LOCATION:Worpswede
SUMMARY:Vorstandssitzung
DESCRIPTION;ALTREP="data:text/html,%0A%3Cp%3EDer%20Vorstand%20trifft%20si
 ch%20um%2018%3A30%20Uhr%20bei%20Mimis%20Erbe.%20Mitglieder%20sind%20f%C3%
 BCr%20den%20%C3%B6ffentlichen%20Teil%20zu%20Beginn%20der%20Sitzung%20herz
 lich%20willkommen.%3C%2Fp%3E%0A":Der Vorstand trifft sich um 18:30 Uhr be
 i Mimis Erbe. Mitglieder sind für den öffentlichen Teil zu Beginn der S
 itzung herzlich willkommen.
CLASS:PUBLIC
DTSTART;TZID=Europe/Berlin:20240916T183000
DTEND;TZID=Europe/Berlin:20240916T193000
DTSTAMP:20260424T124702
END:VEVENT
END:VCALENDAR