BEGIN:VCALENDAR
VERSION:2.0
PRODID:gruene-worpswede.de
METHOD:PUBLISH
BEGIN:VTIMEZONE
TZID:Europe/Berlin
X-LIC-LOCATION:Europe/Berlin
BEGIN:DAYLIGHT
TZOFFSETFROM:+0100
TZOFFSETTO:+0200
TZNAME:CEST
DTSTART:19700329T020000
RRULE:FREQ=YEARLY;INTERVAL=1;BYDAY=-1SU;BYMONTH=3
END:DAYLIGHT
BEGIN:STANDARD
TZOFFSETFROM:+0200
TZOFFSETTO:+0100
TZNAME:CET
DTSTART:19701025T030000
RRULE:FREQ=YEARLY;INTERVAL=1;BYDAY=-1SU;BYMONTH=10
END:STANDARD
END:VTIMEZONE
BEGIN:VEVENT
UID:584c19554424bf4b26610090cb9f6c54@gruene-worpswede.de
URL;VALUE=URI:https://gruene-worpswede.de/termine/wahlparty-in-der-muehle
 -von-roenn/
LOCATION:Mühle von Rönn, Lindenstr. 40, Osterholz-Scharmbeck
SUMMARY:Wahlparty in der Mühle von Rönn
DESCRIPTION;ALTREP="data:text/html,%0A%3Cp%3EF%C3%BCr%20alle%20Wahlk%C3%A
 4mpfer%2Ainnen%20bieten%20eine%20Party%20in%20der%20M%C3%BChle%20von%20R%
 C3%B6nn%20an.%20Dort%20k%C3%B6nnen%20wir%20uns%20vom%20anstrengenden%20Wa
 hlkampf%20erholen%2C%20miteinander%20kl%C3%B6nen%20und%20verfolgen%2C%20w
 ie%20der%20Wahlabend%20ist.%3C%2Fp%3E%0A%0A%0A%0A%3Cp%3ESelbstverst%C3%A4
 ndlich%20sorgen%20wir%20f%C3%BCr%20Getr%C3%A4nke%20und%20Kleinigkeiten%20
 zum%20Knabbern.%3C%2Fp%3E%0A":Für alle Wahlkämpfer*innen bieten eine Pa
 rty in der Mühle von Rönn an. Dort können wir uns vom anstrengenden Wa
 hlkampf erholen\, miteinander klönen und verfolgen\, wie der Wahlabend i
 st.\n\nSelbstverständlich sorgen wir für Getränke und Kleinigkeiten zu
 m Knabbern.
CLASS:PUBLIC
DTSTART;TZID=Europe/Berlin:20240609T173000
DTEND;TZID=Europe/Berlin:20240609T210000
DTSTAMP:20260424T124840
END:VEVENT
END:VCALENDAR