BEGIN:VCALENDAR
VERSION:2.0
PRODID:gruene-worpswede.de
METHOD:PUBLISH
BEGIN:VTIMEZONE
TZID:Europe/Berlin
X-LIC-LOCATION:Europe/Berlin
BEGIN:DAYLIGHT
TZOFFSETFROM:+0100
TZOFFSETTO:+0200
TZNAME:CEST
DTSTART:19700329T020000
RRULE:FREQ=YEARLY;INTERVAL=1;BYDAY=-1SU;BYMONTH=3
END:DAYLIGHT
BEGIN:STANDARD
TZOFFSETFROM:+0200
TZOFFSETTO:+0100
TZNAME:CET
DTSTART:19701025T030000
RRULE:FREQ=YEARLY;INTERVAL=1;BYDAY=-1SU;BYMONTH=10
END:STANDARD
END:VTIMEZONE
BEGIN:VEVENT
UID:a337330d9b33aa8a33f347851058ec82@gruene-worpswede.de
URL;VALUE=URI:https://gruene-worpswede.de/termine/wir-feiern-die-demokrat
 ie/
LOCATION:Boetjer`sche Scheune, Bauernreihe 3, 27726 Worpswede
SUMMARY:Wir feiern die Demokratie
DESCRIPTION;ALTREP="data:text/html,%0A%3Cfigure%20class%3D%22wp-block-ima
 ge%20size-full%22%3E%3Cimg%20src%3D%22https%3A%2F%2Fgruene-worpswede.de%2
 Fwp-content%2Fuploads%2Fsites%2F9%2F2025%2F08%2Fimage-1.jpeg%22%20alt%3D%
 22%22%20class%3D%22wp-image-3127%22%20%2F%3E%3C%2Ffigure%3E%0A%0A%0A%0A%3
 Cfigure%20class%3D%22wp-block-image%20size-full%22%3E%3Cimg%20src%3D%22ht
 tps%3A%2F%2Fgruene-worpswede.de%2Fwp-content%2Fuploads%2Fsites%2F9%2F2025
 %2F08%2Fimage-3.jpeg%22%20alt%3D%22%22%20class%3D%22wp-image-3129%22%20%2
 F%3E%3C%2Ffigure%3E%0A%0A%0A%0A%3Cp%3E%3Cstrong%3EDas%20B%C3%BCndnis%20f%
 C3%BCr%20Demokratie%20%E2%80%9E%20Keine%20Nazis%20in%20Worpswede%20%E2%80
 %9C%20feiert%20ein%20Fest%3C%2Fstrong%3E%3C%2Fp%3E%0A%0A%0A%0A%3Cp%3EVor%
 20ungef%C3%A4hr%20eineinhalb%20Jahren%20schlossen%20sich%2045%20Gruppieru
 ngen%20und%20Institutionen%20zusammen%2C%20um%20zu%20signalisieren%2C%20d
 ass%20eine%20gro%C3%9Fe%20Mehrheit%20der%20worpsweder%20B%C3%BCrger%3Ainn
 en%20nicht%20bereit%20ist%2C%20rechtes%20Gedankengut%2C%20Hass%20und%20He
 tze%20hier%20im%20Ort%20zu%20tolerieren%20oder%20gar%20Raum%20zu%20geben.
 %3C%2Fp%3E%0A%0A%0A%0A%3Cp%3EHeute%20ist%20das%20lose%20B%C3%BCndnis%20so
 gar%20noch%20weiter%20auf%2080%20Mitgliedsgruppen%20gewachsen.%3C%2Fp%3E%
 0A%0A%0A%0A%3Cp%3EDas%20wollen%20wir%20feiern%20am%2020.09.2025%20von%201
 5%20bis%2022.00%20Uhr%20in%20der%20Boetjer%27schen%20Scheune.%20Am%2020.0
 9.2025%20beteiligen%20wir%20uns%20als%20Teil%20des%20B%C3%BCndnisses%20f%
 C3%BCr%20Demokratie-%20Kein%20Platz%20f%C3%BCr%20Nazis%20in%20Worpswede%2
 0an%20einem%20Fest%20f%C3%BCr%20Demokratie%20in%20der%20B%C3%B6tjer%27sch
 en%20Scheune.%3C%2Fp%3E%0A%0A%0A%0A%3Cp%3EDort%20wird%20von%2015.00%20%E2
 %80%93%2018.00%20Uhr%20ein%20buntes%20Programm%20f%C3%BCr%20Jung%20und%20
 Alt%20geboten%2C%20und%20wir%20sind%20mit%20einem%20Stand%20mit%20Stauden
 tausch%20dabei.%20Ab%2018.00%20Uhr%20wollen%20wir%20mit%20allen%20Worpswe
 der%3Ainnen%20tanzen%2C%20schnacken%2C%20schlemmen%20und%20uns%20freuen%2
 C%20dass%20wir%20so%20viele%20sind.%3C%2Fp%3E%0A%0A%0A%0A%3Cp%3EWir%20fre
 uen%20uns%2C%20wenn%20ihr%20uns%20beim%20Fest%20besucht%3C%2Fp%3E%0A%0A%0
 A%0A%3Cp%3ENAZIS%20M%C3%9CSSEN%20DRAUSSEN%20BLEIBEN.%3C%2Fp%3E%0A":Das B
 ündnis für Demokratie „ Keine Nazis in Worpswede “ feiert ein Fest\
 n\nVor ungefähr eineinhalb Jahren schlossen sich 45 Gruppierungen und In
 stitutionen zusammen\, um zu signalisieren\, dass eine große Mehrheit de
 r worpsweder Bürger:innen nicht bereit ist\, rechtes Gedankengut\, Hass 
 und Hetze hier im Ort zu tolerieren oder gar Raum zu geben.\n\nHeute ist 
 das lose Bündnis sogar noch weiter auf 80 Mitgliedsgruppen gewachsen.\n\
 nDas wollen wir feiern am 20.09.2025 von 15 bis 22.00 Uhr in der Boetjer'
 schen Scheune. Am 20.09.2025 beteiligen wir uns als Teil des Bündnisses 
 für Demokratie- Kein Platz für Nazis in Worpswede an einem Fest für De
 mokratie in der Bötjer'schen Scheune.\n\nDort wird von 15.00 – 18.00 U
 hr ein buntes Programm für Jung und Alt geboten\, und wir sind mit einem
  Stand mit Staudentausch dabei. Ab 18.00 Uhr wollen wir mit allen Worpswe
 der:innen tanzen\, schnacken\, schlemmen und uns freuen\, dass wir so vie
 le sind.\n\nWir freuen uns\, wenn ihr uns beim Fest besucht\n\nNAZIS MÜS
 SEN DRAUSSEN BLEIBEN.
CLASS:PUBLIC
DTSTART;TZID=Europe/Berlin:20250920T150000
DTEND;TZID=Europe/Berlin:20250920T180000
DTSTAMP:20260424T124819
END:VEVENT
END:VCALENDAR